BEGIN:VCALENDAR
VERSION:2.0
PRODID:-//Global Health Council - ECPv5.8.0//NONSGML v1.0//EN
CALSCALE:GREGORIAN
METHOD:PUBLISH
X-WR-CALNAME:Global Health Council
X-ORIGINAL-URL:https://globalhealth.org
X-WR-CALDESC:Events for Global Health Council
BEGIN:VTIMEZONE
TZID:America/New_York
BEGIN:DAYLIGHT
TZOFFSETFROM:-0500
TZOFFSETTO:-0400
TZNAME:EDT
DTSTART:20210314T070000
END:DAYLIGHT
BEGIN:STANDARD
TZOFFSETFROM:-0400
TZOFFSETTO:-0500
TZNAME:EST
DTSTART:20211107T060000
END:STANDARD
END:VTIMEZONE
BEGIN:VEVENT
DTSTART;TZID=America/New_York:20210511T080000
DTEND;TZID=America/New_York:20210527T110000
DTSTAMP:20210801T034221
CREATED:20210223T173953Z
LAST-MODIFIED:20210428T151129Z
UID:504230-1620720000-1622113200@globalhealth.org
SUMMARY:2021 CCIH Conference
DESCRIPTION:Organized by Christian Connections for International Health  \n2021 CCIH Conference\nMay 11\, 13\, 18\, 20\, 25\, and 27\, 2021\nRegister\n\n\n\n\n\nRegistration is open! The CCIH 2021 Conference will be a virtual event held in May with six sessions spread out over three weeks that focus on hearing from global voices and sharing practical experience and learning\, with time set aside to make connections\, and have meaningful dialogue and fellowship. \nThe six sessions will be held on May 11\, 13\, 18\, 20\, 25\, and 27 from 8:00 to 11:00 am U.S. EDT each day. Our theme is Cultivating Unity in Global Health\, and during the six sessions we will explore how faith actors are cultivating unity through: \n\nLeadership & Governance\nCommunity Ownership and Co-creation\nLearning\nTechnology\nHealth Systems\n\n \nInitial confirmed speakers include: \n\nJoshua Bogunjoko\, SIM International Director on the opening day May 11\, focusing on Unity in Global Health.\nJonathan Quick\, Managing Director for Pandemic Response\, Preparedness\, and Prevention at The Rockefeller Foundation and author of The End of Epidemics: The Looming Threat to Humanity and How to Stop It\, on May 11.\nKoki Agarwal\, Project Director\, USAID’s MOMENTUM Country and Global Leadership on May 13 as we focus on Leadership and Governance.\nSister Priscilla Busingye\, President of the Association of Obstetricians and Gynecologists of Uganda and 2020 winner of the African Mission Healthcare’s annual L’Chaim Prize on May 18 as we explore Community Ownership and Co-Creation.\nHarold Koenig\, Director of the Center for Spirituality\, Theology and Health\, at the Duke University Medical Center and expert on the positive influence of religious involvement on public health\, on May 20.\n\nThe rest of the program will be available in early March. We hope you will join us as we hear from these global voices and more! \nOur guiding verse is “Be completely humble and gentle; be patient\, bearing with one another in love. Make every effort to keep the unity of the Spirit through the bond of peace. There is one body and one Spirit.” Ephesians 4:2-4 \n\n\n\nAre you hosting an event soon? Share your event with us by emailing events@globalhealth.org. And\, stay up-to-date with the news from the global health community by signing up for our monthly newsletter.
URL:https://globalhealth.org/event/2021-ccih-conference/
END:VEVENT
BEGIN:VEVENT
DTSTART;TZID=America/New_York:20210524T090000
DTEND;TZID=America/New_York:20210524T100000
DTSTAMP:20210801T034221
CREATED:20210519T191341Z
LAST-MODIFIED:20210519T192132Z
UID:505115-1621846800-1621850400@globalhealth.org
SUMMARY:Protect All People: Accelerating Progress on the COVID Vaccines
DESCRIPTION:Organized by Seed Global Health and The Access Challenge \nProtect All People: Accelerating Progress on the COVID Vaccines\nMay 24\, 2021\nRSVP\n\nAs the world focuses on COVID variants\, vaccine production\, and distribution\, Africa is facing the next great hurdle in its COVID-19 response: vaccine hesitancy and misinformation. Efforts to improve broad vaccine acceptance are falling short\, and the resulting vaccine resistance will thwart distribution plans if it is not addressed. \nHealth workers are uniquely positioned to build vaccine acceptance. Not only do health workers deliver care for COVID patients\, but they can also serve as trusted health messengers who bridge the gap between Government and the community. \nOn the sidelines of the 74th Annual World Health Assembly\, this event – as part of the One by One: Target COVID-19 campaign – will raise the voices of health leaders\, influencers\, and frontline workers who will share their perspectives and recommendations on delivering care and building trust in the context of vaccine resistance. \n\nAre you hosting an event soon? Share your event with us by emailing events@globalhealth.org. And\, stay up-to-date with the news from the global health community by signing up for our monthly newsletter.
URL:https://globalhealth.org/event/protect-all-people-accelerating-progress-on-the-covid-vaccines/
CATEGORIES:Special Events,WHA Calendar
END:VEVENT
BEGIN:VEVENT
DTSTART;TZID=America/New_York:20210524T100000
DTEND;TZID=America/New_York:20210524T113000
DTSTAMP:20210801T034221
CREATED:20210519T151200Z
LAST-MODIFIED:20210519T151348Z
UID:505104-1621850400-1621855800@globalhealth.org
SUMMARY:Addressing the Ongoing Violence Against Health Care in Conflict and the COVID-19 Pandemic
DESCRIPTION:Organized by the Global Health Centre\, Graduate Institute\, Geneva \nAddressing the Ongoing Violence Against Health Care in Conflict and the COVID-19 Pandemic\nMay 24\, 2021\nRSVP\nFrom 2016 to 2020\, there have been more than 4\,000 incidents of violence against health facilities and personnel\, including bombing\, shelling\, setting fire to\, and looting of hospitals\, kidnapping\, arrests and killing of in the past five years\, and attacks on emergency responders and ambulances. In 2020\, additional violence was inflicted in the context of the Covid-19 pandemic. In 2016\, the Security Council adopted resolution 2286\, condemning such actions and calling on states to take concrete actions toward stopping the violence and holding perpetrators to account. To date\, however\, there has been little progress in implementing resolution 2286 or reducing the levels of violence. The Global Health Centre\, Safeguarding Health in Conflict Coalition and the Swiss Confederation are hosting an in-depth discussion on the status of violence against health care in conflict\, particularly in the context of the Covid-19 pandemic. The event will also highlight the current impediments to further action and identify strategies to address the problem at the global and national levels. \nThe Global Health Centre is organising a series of events during the 74th World Health Assembly Week. View all our events at: graduateinstitute.ch/GHC-Events \nVisit our website and subscribe to our mailing list for more information: graduateinstitute.ch/globalhealth \nAre you hosting an event soon? Share your event with us by emailing events@globalhealth.org. And\, stay up-to-date with the news from the global health community by signing up for our monthly newsletter.
URL:https://globalhealth.org/event/addressing-the-ongoing-violence-against-health-care-in-conflict-and-the-covid-19-pandemic/
CATEGORIES:Special Events,WHA Calendar
END:VEVENT
END:VCALENDAR