BEGIN:VCALENDAR
VERSION:2.0
PRODID:-//Global Health Council - ECPv5.8.0//NONSGML v1.0//EN
CALSCALE:GREGORIAN
METHOD:PUBLISH
X-WR-CALNAME:Global Health Council
X-ORIGINAL-URL:https://globalhealth.org
X-WR-CALDESC:Events for Global Health Council
BEGIN:VTIMEZONE
TZID:America/New_York
BEGIN:DAYLIGHT
TZOFFSETFROM:-0500
TZOFFSETTO:-0400
TZNAME:EDT
DTSTART:20210314T070000
END:DAYLIGHT
BEGIN:STANDARD
TZOFFSETFROM:-0400
TZOFFSETTO:-0500
TZNAME:EST
DTSTART:20211107T060000
END:STANDARD
END:VTIMEZONE
BEGIN:VEVENT
DTSTART;TZID=America/New_York:20210519T130000
DTEND;TZID=America/New_York:20210519T140000
DTSTAMP:20210802T102118
CREATED:20210506T173056Z
LAST-MODIFIED:20210506T173222Z
UID:504970-1621429200-1621432800@globalhealth.org
SUMMARY:Women’s and Maternal Health During a Pandemic
DESCRIPTION:Organized by Friends of the Global Fight Against AIDS\, Tuberculosis and Malaria \nWomen’s and Maternal Health During a Pandemic\nMay 19\, 2021\nRSVP\n \nAre you hosting an event soon? Share your event with us by emailing events@globalhealth.org. And\, stay up-to-date with the news from the global health community by signing up for our monthly newsletter.
URL:https://globalhealth.org/event/womens-and-maternal-health-during-a-pandemic/
END:VEVENT
END:VCALENDAR