BEGIN:VCALENDAR
VERSION:2.0
PRODID:-//Global Health Council - ECPv5.8.0//NONSGML v1.0//EN
CALSCALE:GREGORIAN
METHOD:PUBLISH
X-WR-CALNAME:Global Health Council
X-ORIGINAL-URL:https://globalhealth.org
X-WR-CALDESC:Events for Global Health Council
BEGIN:VTIMEZONE
TZID:America/New_York
BEGIN:DAYLIGHT
TZOFFSETFROM:-0500
TZOFFSETTO:-0400
TZNAME:EDT
DTSTART:20210314T070000
END:DAYLIGHT
BEGIN:STANDARD
TZOFFSETFROM:-0400
TZOFFSETTO:-0500
TZNAME:EST
DTSTART:20211107T060000
END:STANDARD
END:VTIMEZONE
BEGIN:VEVENT
DTSTART;TZID=America/New_York:20210512T150000
DTEND;TZID=America/New_York:20210512T154500
DTSTAMP:20210802T101718
CREATED:20210505T160209Z
LAST-MODIFIED:20210505T160238Z
UID:504954-1620831600-1620834300@globalhealth.org
SUMMARY:Preventing the Next Pandemic: A Conversation with Peter J. Hotez
DESCRIPTION:Organized by CSIS \nPreventing the Next Pandemic: A Conversation with Peter J. Hotez\nMay 12\, 2021\nRSVP\n\n\nThe Covid-19 pandemic has laid bare the threat infectious diseases pose to economic growth\, social programs\, and political stability\, as well as global security. Yet prior to the emergence of Covid-19\, global health experts had encouraged a greater focus on pandemic preparedness\, noting the roles conflict\, poverty\, urbanization\, climate change\, and even anti-science sentiments play in undermining the progress made in addressing vaccine-preventable diseases and anticipating the emergence of new ones. The response to the Covid-19 pandemic has been characterized both by heightened nationalism and protectionism\, along with unprecedented cooperation on science and vaccine research and development. As global Covid-19 immunization efforts accelerate\, and equitable access to vaccines becomes central to global recovery\, what opportunities are there to re-energize international diplomatic engagement on global health security and pandemic preparedness? \nPlease join the CSIS Commission on Strengthening America’s Health Security on Wednesday\, May 12\, from 3:00 to 3:45 p.m. EDT for a conversation with Peter J. Hotez\, Dean of the National School of Tropical Medicine at Baylor College of Medicine\, moderated by Katherine E. Bliss\, Senior Fellow with the CSIS Global Health Policy Center. Dr. Hotez will discuss his new book\, Preventing the Next Pandemic: Vaccine Diplomacy in a Time of Anti-science\, and how\, as leaders begin to turn their attention to the future\, renewed international partnerships rooted in scientific cooperation could help better prepare us for the next crisis. \nThis event is made possible through the generous support of the Bill & Melinda Gates Foundation. \n\nFEATURING\n\n\n\nPeter J. Hotez\nDean\, National School of Tropical Medicine\, Baylor College of Medicine\n\n\n\n\n\nAre you hosting an event soon? Share your event with us by emailing events@globalhealth.org. And\, stay up-to-date with the news from the global health community by signing up for our monthly newsletter.
URL:https://globalhealth.org/event/preventing-the-next-pandemic-a-conversation-with-peter-j-hotez/
END:VEVENT
END:VCALENDAR